BEGIN:VCALENDAR
VERSION:2.0
PRODID:icalendar-ruby
CALSCALE:GREGORIAN
METHOD:PUBLISH
BEGIN:VEVENT
DTSTAMP:20260423T173401Z
UID:16-1247732@forestbaptist.ca
DTSTART:20260815T103000Z
DTEND:20260815T113000Z
CLASS:PUBLIC
CREATED:20260423T120154
DESCRIPTION:Please use the South Door Entrance.
LAST-MODIFIED:20260423T120154
LOCATION:Forest Baptist Church
SUMMARY:Men's Prayer Time
URL;VALUE=URI:https://www.forestbaptist.ca/events/mens-prayer-time/2026-08-
 15
ATTACH;FILENAME=people-praying-1_1170x700.jpeg;FMTTYPE=image/jpeg:https://d
 q5pwpg1q8ru0.cloudfront.net/2022/08/28/07/54/02/f6cf75b5-50d8-481c-aa46-78
 76c04620f4/people-praying-1_1170x700.jpeg
END:VEVENT
END:VCALENDAR
