BEGIN:VCALENDAR
VERSION:2.0
PRODID:icalendar-ruby
CALSCALE:GREGORIAN
METHOD:PUBLISH
BEGIN:VEVENT
DTSTAMP:20260421T085429Z
UID:216-1240632@forestbaptist.ca
DTSTART:20261025T133000Z
DTEND:20261025T143000Z
CLASS:PUBLIC
CREATED:20260420T190644
DESCRIPTION:
LAST-MODIFIED:20260420T190644
LOCATION:
SUMMARY:Adult S.S.
URL;VALUE=URI:https://www.forestbaptist.ca/events/adult-s-s/2026-10-25
END:VEVENT
END:VCALENDAR
