BEGIN:VCALENDAR
VERSION:2.0
PRODID:icalendar-ruby
CALSCALE:GREGORIAN
METHOD:PUBLISH
BEGIN:VEVENT
DTSTAMP:20260421T085523Z
UID:216-1240630@forestbaptist.ca
DTSTART:20261011T133000Z
DTEND:20261011T143000Z
CLASS:PUBLIC
CREATED:20260420T190644
DESCRIPTION:
LAST-MODIFIED:20260420T190644
LOCATION:
SUMMARY:Adult S.S.
URL;VALUE=URI:https://www.forestbaptist.ca/events/adult-s-s/2026-10-11
END:VEVENT
END:VCALENDAR
